BEGIN:VCALENDAR
VERSION:2.0
PRODID:-//Ali İhsan ARSLAN - ECPv6.1.3//NONSGML v1.0//EN
CALSCALE:GREGORIAN
METHOD:PUBLISH
X-ORIGINAL-URL:https://aliihsanarslan.com
X-WR-CALDESC:Ali İhsan ARSLAN için etkinlikler
REFRESH-INTERVAL;VALUE=DURATION:PT1H
X-Robots-Tag:noindex
X-PUBLISHED-TTL:PT1H
BEGIN:VTIMEZONE
TZID:Europe/Helsinki
BEGIN:DAYLIGHT
TZOFFSETFROM:+0200
TZOFFSETTO:+0300
TZNAME:EEST
DTSTART:20150329T010000
END:DAYLIGHT
BEGIN:STANDARD
TZOFFSETFROM:+0300
TZOFFSETTO:+0200
TZNAME:EET
DTSTART:20151025T010000
END:STANDARD
BEGIN:DAYLIGHT
TZOFFSETFROM:+0200
TZOFFSETTO:+0300
TZNAME:EEST
DTSTART:20160327T010000
END:DAYLIGHT
BEGIN:STANDARD
TZOFFSETFROM:+0300
TZOFFSETTO:+0200
TZNAME:EET
DTSTART:20161030T010000
END:STANDARD
TZID:UTC
BEGIN:STANDARD
TZOFFSETFROM:+0000
TZOFFSETTO:+0000
TZNAME:UTC
DTSTART:20150101T000000
END:STANDARD
END:VTIMEZONE
BEGIN:VEVENT
DTSTART;TZID=Europe/Helsinki:20160529T170000
DTEND;TZID=Europe/Helsinki:20160529T200000
DTSTAMP:20260419T212253
CREATED:20160529T185935Z
LAST-MODIFIED:20160529T185935Z
UID:693-1464541200-1464552000@aliihsanarslan.com
SUMMARY:Istanbul'un Fethi'nin 563. Yıldönümü
DESCRIPTION:
URL:https://aliihsanarslan.com/program/istanbulun-fethinin-563-yildonumu/
LOCATION:Yenikapı Sahili\, Istanbul\, Türkiye
END:VEVENT
BEGIN:VEVENT
DTSTART;TZID=Europe/Helsinki:20160529T110000
DTEND;TZID=Europe/Helsinki:20160529T120000
DTSTAMP:20260419T212253
CREATED:20160529T183400Z
LAST-MODIFIED:20160529T183518Z
UID:689-1464519600-1464523200@aliihsanarslan.com
SUMMARY:TBMM Genel Kurul (65. Hükümet Günven oylaması)
DESCRIPTION:
URL:https://aliihsanarslan.com/program/tbmm-genel-kurul-65-hukumet-gunven-oylamasi/
LOCATION:TBMM\, Ankara\, Türkiye
END:VEVENT
BEGIN:VEVENT
DTSTART;TZID=Europe/Helsinki:20160527T150000
DTEND;TZID=Europe/Helsinki:20160527T213000
DTSTAMP:20260419T212253
CREATED:20160529T190431Z
LAST-MODIFIED:20160529T190431Z
UID:695-1464361200-1464384600@aliihsanarslan.com
SUMMARY:TBMM Genel Kurul (65. Hükümet Programı üzerinde görüşmeler)
DESCRIPTION:
URL:https://aliihsanarslan.com/program/tbmm-genel-kurul-65-hukumet-programi-uzerinde-gorusmeler/
LOCATION:TBMM\, Ankara\, Türkiye
END:VEVENT
BEGIN:VEVENT
DTSTART;TZID=Europe/Helsinki:20160526T190000
DTEND;TZID=Europe/Helsinki:20160526T210000
DTSTAMP:20260419T212253
CREATED:20160529T190552Z
LAST-MODIFIED:20160529T191702Z
UID:697-1464289200-1464296400@aliihsanarslan.com
SUMMARY:Çankaya İlçe Danışma Toplantısı
DESCRIPTION:
URL:https://aliihsanarslan.com/program/cankaya-ilce-danisma-toplantisi/
LOCATION:Ankara İl Başkanlığı\, Ankara\, Türkiye
END:VEVENT
BEGIN:VEVENT
DTSTART;TZID=Europe/Helsinki:20160524T150000
DTEND;TZID=Europe/Helsinki:20160524T170000
DTSTAMP:20260419T212253
CREATED:20160529T190714Z
LAST-MODIFIED:20160529T190714Z
UID:699-1464102000-1464109200@aliihsanarslan.com
SUMMARY:TBMM Genel Kurul (65. Hükümet Programının okunması)
DESCRIPTION:
URL:https://aliihsanarslan.com/program/tbmm-genel-kurul-65-hukumet-programinin-okunmasi/
LOCATION:TBMM\, Ankara\, Türkiye
END:VEVENT
BEGIN:VEVENT
DTSTART;TZID=Europe/Helsinki:20160524T110000
DTEND;TZID=Europe/Helsinki:20160524T120000
DTSTAMP:20260419T212253
CREATED:20160529T190858Z
LAST-MODIFIED:20160529T190858Z
UID:701-1464087600-1464091200@aliihsanarslan.com
SUMMARY:AK Parti Grup Toplantısı
DESCRIPTION:
URL:https://aliihsanarslan.com/program/ak-parti-grup-toplantisi/
LOCATION:TBMM\, Ankara\, Türkiye
END:VEVENT
BEGIN:VEVENT
DTSTART;TZID=Europe/Helsinki:20160522T100000
DTEND;TZID=Europe/Helsinki:20160522T170000
DTSTAMP:20260419T212253
CREATED:20160521T111743Z
LAST-MODIFIED:20160521T111743Z
UID:684-1463911200-1463936400@aliihsanarslan.com
SUMMARY:AK Parti 2. Olağanüstü Büyük Kongresi
DESCRIPTION:
URL:https://aliihsanarslan.com/program/ak-parti-2-olaganustu-buyuk-kongresi/
LOCATION:Ankara Arena\, Türkiye
END:VEVENT
BEGIN:VEVENT
DTSTART;TZID=Europe/Helsinki:20151117T150000
DTEND;TZID=Europe/Helsinki:20151117T180000
DTSTAMP:20260419T212253
CREATED:20151117T130022Z
LAST-MODIFIED:20151116T190714Z
UID:636-1447772400-1447783200@aliihsanarslan.com
SUMMARY:26. Dönem Milletvekilleri Ant İçme Töreni
DESCRIPTION:Türkiye Büyük Milletvekili Meclisi 26. Dönem Milletvekili ant içme törenini katılacağız.
URL:https://aliihsanarslan.com/program/26-donem-milletvekilleri-ant-icme-toreni/
END:VEVENT
BEGIN:VEVENT
DTSTART;TZID=Europe/Helsinki:20151116T110000
DTEND;TZID=Europe/Helsinki:20151116T140000
DTSTAMP:20260419T212253
CREATED:20151116T090033Z
LAST-MODIFIED:20151116T173429Z
UID:616-1447671600-1447682400@aliihsanarslan.com
SUMMARY:26. Dönem AK Parti Milletvekilleri ile Toplantı
DESCRIPTION:26. Dönemin ilk grup toplantısını AK Parti Genel Merkezinde gerçekleştireceğiz.
URL:https://aliihsanarslan.com/program/26-donem-ak-parti-milletvekilleri-ile-toplanti/
END:VEVENT
BEGIN:VEVENT
DTSTART;TZID=Europe/Helsinki:20151113T190000
DTEND;TZID=Europe/Helsinki:20151113T210000
DTSTAMP:20260419T212253
CREATED:20151113T170059Z
LAST-MODIFIED:20151116T185229Z
UID:631-1447441200-1447448400@aliihsanarslan.com
SUMMARY:Ankara Milletvekilleri ile İstişare Toplantısı
DESCRIPTION:Ankara İl Başkanlığı tarafından düzenlenen istişare toplantısı katılacağız.
URL:https://aliihsanarslan.com/program/ankara-milletvekilleri-ile-istisare-toplantisi/
LOCATION:Altınpark
END:VEVENT
BEGIN:VEVENT
DTSTART;VALUE=DATE:20151101
DTEND;VALUE=DATE:20151102
DTSTAMP:20260419T212253
CREATED:20151013T121812Z
LAST-MODIFIED:20151013T121812Z
UID:140-1446336000-1446422399@aliihsanarslan.com
SUMMARY:Milletvekili Genel Seçimleri
DESCRIPTION:
URL:https://aliihsanarslan.com/program/milletvekili-genel-secimleri/
END:VEVENT
BEGIN:VEVENT
DTSTART;TZID=Europe/Helsinki:20151022T120000
DTEND;TZID=Europe/Helsinki:20151022T180000
DTSTAMP:20260419T212253
CREATED:20151105T092536Z
LAST-MODIFIED:20151105T092536Z
UID:597-1445515200-1445536800@aliihsanarslan.com
SUMMARY:Şereflikoçhisar ve Evren Programları
DESCRIPTION:Şereflikoçhisar’da Muhtarlar ve STK temsilcileriyle toplantı yapılacak. \nEvren İlçe Başkanlığı’nda vatandaşlarla buluşulacak.
URL:https://aliihsanarslan.com/program/sereflikochisar-ve-evren-programlari/
END:VEVENT
BEGIN:VEVENT
DTSTART;TZID=Europe/Helsinki:20151020T130000
DTEND;TZID=Europe/Helsinki:20151020T180000
DTSTAMP:20260419T212253
CREATED:20151105T092234Z
LAST-MODIFIED:20151105T092234Z
UID:595-1445346000-1445364000@aliihsanarslan.com
SUMMARY:Mamak Fabrika ziyaretleri
DESCRIPTION:Mamak’ta Yıldırımer Fabrikası\, Özbaşkent Makina\, Onay Mobilya\, Eyüp Sabri Fabrikası\, Engin Geri Kazanım ziyaretleri yapılacak. Ayrıca Mamak Banliyö treniyle yolculuk yapılacak.
URL:https://aliihsanarslan.com/program/mamak-fabrika-ziyaretleri/
END:VEVENT
BEGIN:VEVENT
DTSTART;TZID=Europe/Helsinki:20151017T130000
DTEND;TZID=Europe/Helsinki:20151017T173000
DTSTAMP:20260419T212253
CREATED:20151018T190657Z
LAST-MODIFIED:20151018T190946Z
UID:388-1445086800-1445103000@aliihsanarslan.com
SUMMARY:Akyurt Programı
DESCRIPTION:Akyurt ilçesinde esnaf ziyaretleri ve 5K fabrikası ziyaret edilecek.
URL:https://aliihsanarslan.com/program/akyurt-programi/
LOCATION:Akyurt\, Ankara\, Türkiye
END:VEVENT
BEGIN:VEVENT
DTSTART;TZID=Europe/Helsinki:20151016T190000
DTEND;TZID=Europe/Helsinki:20151016T200000
DTSTAMP:20260419T212253
CREATED:20151018T190345Z
LAST-MODIFIED:20151018T190922Z
UID:386-1445022000-1445025600@aliihsanarslan.com
SUMMARY:Ankara'nın Değerleri Toplantısı
DESCRIPTION:Başbakan Yardımcısı Yalçın Akdoğan’la Ankara’nın Değerleri toplantısı…
URL:https://aliihsanarslan.com/program/ankaranin-degerleri-toplantisi/
LOCATION:Rixoss\, Ankara\, Türkiye
END:VEVENT
BEGIN:VEVENT
DTSTART;TZID=Europe/Helsinki:20151016T144500
DTEND;TZID=Europe/Helsinki:20151016T183000
DTSTAMP:20260419T212253
CREATED:20151018T185914Z
LAST-MODIFIED:20151018T191442Z
UID:383-1445006700-1445020200@aliihsanarslan.com
SUMMARY:Elmadağ Programı
DESCRIPTION:Elmadağ’ında Zebrano\, Işık Kardeşler Medikal ve Radsan fabrikaları ziyaret edilecek.
URL:https://aliihsanarslan.com/program/elmadag-programi/
LOCATION:Elmadağ\, Ankara\, Türkiye
END:VEVENT
BEGIN:VEVENT
DTSTART;TZID=Europe/Helsinki:20151016T133000
DTEND;TZID=Europe/Helsinki:20151016T143000
DTSTAMP:20260419T212253
CREATED:20151018T185535Z
LAST-MODIFIED:20151018T191325Z
UID:381-1445002200-1445005800@aliihsanarslan.com
SUMMARY:Altın Petek Fabrika Ziyareti
DESCRIPTION:Lalahan’da Altın Petek bal fabrikası ziyaret edilecek.
URL:https://aliihsanarslan.com/program/lalahan-altin-petek-fabrika-ziyareti/
LOCATION:Lalahan\, Ankara\, Türkiye
END:VEVENT
BEGIN:VEVENT
DTSTART;TZID=Europe/Helsinki:20151015T190000
DTEND;TZID=Europe/Helsinki:20151015T210000
DTSTAMP:20260419T212253
CREATED:20151018T185130Z
LAST-MODIFIED:20151018T192343Z
UID:379-1444935600-1444942800@aliihsanarslan.com
SUMMARY:Haymana Dernekler Federasyonu Toplantısı
DESCRIPTION:Haymana Dernekler Federasyonu’nun düzenlediği toplantıda Haymana’lılar ile buluşulacak.
URL:https://aliihsanarslan.com/program/haymana-dernekler-federasyonu-toplantisi/
LOCATION:Asrın Park Otel\, Ankara\, Türkiye
END:VEVENT
BEGIN:VEVENT
DTSTART;TZID=Europe/Helsinki:20151015T160000
DTEND;TZID=Europe/Helsinki:20151015T180000
DTSTAMP:20260419T212253
CREATED:20151018T184833Z
LAST-MODIFIED:20151018T192108Z
UID:377-1444924800-1444932000@aliihsanarslan.com
SUMMARY:Rüzgar'lı Esnafı ile Toplantı
DESCRIPTION:TIMKODER salonunda Rüzgar’lı esnafı ile toplantısı…
URL:https://aliihsanarslan.com/program/ruzgarli-esnafi-ile-toplanti/
LOCATION:Rüzgarlı\, Ankara\, Türkiye
END:VEVENT
BEGIN:VEVENT
DTSTART;TZID=Europe/Helsinki:20151015T110000
DTEND;TZID=Europe/Helsinki:20151015T123000
DTSTAMP:20260419T212253
CREATED:20151018T184146Z
LAST-MODIFIED:20151018T192151Z
UID:376-1444906800-1444912200@aliihsanarslan.com
SUMMARY:Polatlı Devlet Hastane açılışı
DESCRIPTION:Başbakan Yardımcısı Yalçın Akdoğan ve Orman ve Su İşleri Bakanı Veysel Eroğlu Polatlı Devlet Hastanesi açılışı ve Gölpınar Baraj Temel atma töreni…
URL:https://aliihsanarslan.com/program/polatli-devlet-hastane-acilisi/
LOCATION:Polatlı Devlet Hastanesi\, Ankara\, Türkiye
END:VEVENT
BEGIN:VEVENT
DTSTART;TZID=Europe/Helsinki:20151014T130000
DTEND;TZID=Europe/Helsinki:20151014T170000
DTSTAMP:20260419T212253
CREATED:20151014T142557Z
LAST-MODIFIED:20151014T142557Z
UID:183-1444827600-1444842000@aliihsanarslan.com
SUMMARY:Mamak Programı
DESCRIPTION:Mamak ilçesinde Yaşar\, Demirlibahçe\, Şehitlik\, Mamak\, Kayaş\, Nata Vega\, Doğukent ve Yeşilbayır taksi durakları ziyaret edilecek.
URL:https://aliihsanarslan.com/program/mamak-programi/
END:VEVENT
BEGIN:VEVENT
DTSTART;TZID=Europe/Helsinki:20151010T100000
DTEND;TZID=Europe/Helsinki:20151010T115500
DTSTAMP:20260419T212253
CREATED:20151014T142105Z
LAST-MODIFIED:20151014T142424Z
UID:180-1444471200-1444478100@aliihsanarslan.com
SUMMARY:Muhtarlarla Kahvaltı Programı
DESCRIPTION:Çankaya İlçe Başkanlığı tarafından düzenlenen kahvaltı programına katılınacak. Muhtarlarla bir araya gelinecek.
URL:https://aliihsanarslan.com/program/muhtarlarla-kahvalti-programi/
LOCATION:Çankaya
END:VEVENT
BEGIN:VEVENT
DTSTART;TZID=Europe/Helsinki:20151009T170000
DTEND;TZID=Europe/Helsinki:20151009T190000
DTSTAMP:20260419T212253
CREATED:20151014T142337Z
LAST-MODIFIED:20151014T142337Z
UID:182-1444410000-1444417200@aliihsanarslan.com
SUMMARY:STK Ziyaretleri
DESCRIPTION:Ağrı Patnos Köyleri Yardımlaşma ve Kültür Derneği ile Erzurum İktisadi ve Sosyal Araştırma Vakfı ziyaret edilecek.
URL:https://aliihsanarslan.com/program/stk-ziyaretleri/
END:VEVENT
BEGIN:VEVENT
DTSTART;TZID=Europe/Helsinki:20151009T123000
DTEND;TZID=Europe/Helsinki:20151009T160000
DTSTAMP:20260419T212253
CREATED:20151014T141921Z
LAST-MODIFIED:20151014T142201Z
UID:178-1444393800-1444406400@aliihsanarslan.com
SUMMARY:Etimesgut Esnaf Ziyaretleri
DESCRIPTION:Ankara’nın önemli ilçelerinden Etimesgut’ta da vatandaşlarla bir araya gelinecek. Ahi Elvan Caddesi’ndeki işletmeler ve esnaf ziyaret edilecek.
URL:https://aliihsanarslan.com/program/etimesgut-esnaf-ziyaretleri/
LOCATION:İsimsiz mekan\, Ankara\, Türkiye
END:VEVENT
BEGIN:VEVENT
DTSTART;VALUE=DATE:20151008
DTEND;VALUE=DATE:20151009
DTSTAMP:20260419T212253
CREATED:20151014T141735Z
LAST-MODIFIED:20151014T141735Z
UID:176-1444262400-1444348799@aliihsanarslan.com
SUMMARY:Ankara İl İstişare Toplantısı
DESCRIPTION:Milletvekili adayları\, belediye başkanları ve ilçe başkanlarımız ile istişare toplantısına katılacağız.
URL:https://aliihsanarslan.com/program/ankara-il-istisare-toplantisi/
LOCATION:İsimsiz mekan\, Ankara
END:VEVENT
BEGIN:VEVENT
DTSTART;VALUE=DATE:20151006
DTEND;VALUE=DATE:20151007
DTSTAMP:20260419T212253
CREATED:20151014T141409Z
LAST-MODIFIED:20151014T141409Z
UID:173-1444089600-1444175999@aliihsanarslan.com
SUMMARY:Haymana ve Köy Ziyaretleri
DESCRIPTION:Haymana ilçe merkezi ile Altıpınar\, Bostanhöyük\, Pınarbaşı\, Yenice\, Yergömü\, Yeşiköy ve Yukarısebil köyleri ziyaret edilecek.
URL:https://aliihsanarslan.com/program/haymana-ve-koy-ziyaretleri/
LOCATION:İsimsiz mekan\, Ankara\, Türkiye
END:VEVENT
BEGIN:VEVENT
DTSTART;VALUE=DATE:20151005
DTEND;VALUE=DATE:20151006
DTSTAMP:20260419T212253
CREATED:20151005T100151Z
LAST-MODIFIED:20151014T140437Z
UID:170-1444003200-1444089599@aliihsanarslan.com
SUMMARY:Sincan OSB Ziyareti
DESCRIPTION:Organize Sanayi Bölgesi’ndeki Altim Alüminyum\, ProGlass\, Erse Mobilya ve Hidromek fabrikaları ziyaret edilecek\, fabrikalarda çalışan emekçilerle bir araya gelinecek.
URL:https://aliihsanarslan.com/program/sincan-osb-ziyareti/
LOCATION:İsimsiz mekan\, Ankara\, Türkiye
END:VEVENT
END:VCALENDAR